BEGIN:VCALENDAR
VERSION:2.0
PRODID:-//Your Organization//EN
BEGIN:VEVENT
UID:69e4d0bda8a0c@yourdomain.com
DTSTAMP:20260419T125525Z
DTSTART:20260606T140000
DTEND:20260606T220000
SUMMARY:Decadence 360 Birmingham - Mr C. (The Shamen) Saturday June 6th
DESCRIPTION:Legendary Shamen front man Mr C. Headlines a very special 360 DJ box event at Mama Roux\, Joined by Jeremy Healy\, Sharp Boys\, John Kelly & Paul Morrell More info: https://www.skiddle.com/whats-on/Birmingham/Mama-Roux%27s-Birmingham/Decadence-360-Birmingham---Mr-C-The-Shamen-Saturday-June-6th/42077934/
LOCATION:Mama Roux's Birmingham\, 2-3 Lower Trinity Street
END:VEVENT
END:VCALENDAR