BEGIN:VCALENDAR
VERSION:2.0
PRODID:-//Your Organization//EN
BEGIN:VEVENT
UID:69e4e6a04b06d@yourdomain.com
DTSTAMP:20260419T142848Z
DTSTART:20260502T230000
DTEND:20260503T040000
SUMMARY:Dungeon Meat All Night Long - Colette + CNTRL presents
DESCRIPTION:Underground party > intimate audio space. More info: https://www.skiddle.com/whats-on/Birmingham/Club-Colette/Dungeon-Meat-All-Night-Long---Colette--CNTRL-presents/42124425/
LOCATION:Club Colette\, 5 Lower Trinity Street
END:VEVENT
END:VCALENDAR